BEGIN:VCALENDAR
VERSION:2.0
PRODID:-//ONE X LEAGUE - ECPv6.9.1//NONSGML v1.0//EN
CALSCALE:GREGORIAN
METHOD:PUBLISH
X-WR-CALNAME:ONE X LEAGUE
X-ORIGINAL-URL:https://onexleague.com
X-WR-CALDESC:Events for ONE X LEAGUE
REFRESH-INTERVAL;VALUE=DURATION:PT1H
X-Robots-Tag:noindex
X-PUBLISHED-TTL:PT1H
BEGIN:VTIMEZONE
TZID:America/New_York
BEGIN:DAYLIGHT
TZOFFSETFROM:-0500
TZOFFSETTO:-0400
TZNAME:EDT
DTSTART:20230312T070000
END:DAYLIGHT
BEGIN:STANDARD
TZOFFSETFROM:-0400
TZOFFSETTO:-0500
TZNAME:EST
DTSTART:20231105T060000
END:STANDARD
END:VTIMEZONE
BEGIN:VEVENT
DTSTART;TZID=America/New_York:20231116T220000
DTEND;TZID=America/New_York:20231123T130000
DTSTAMP:20260421T100111
CREATED:20230723T032554Z
LAST-MODIFIED:20231004T221147Z
UID:1108-1700172000-1700744400@onexleague.com
SUMMARY:OXL Trip to Dubai + Abu Dhabi!
DESCRIPTION:You must a member of the ONE X LEAGUE to view this page. If you are already a member\, please login below. \n  \n  \n            \n\n                       \n            \n        \n                              Username\n        \n        \n      \n      \n        \n          Password\n          \n            \n            \n              \n            \n          \n        \n      \n            \n         Remember Me\n      \n       \n      \n        \n        \n        \n        \n      \n    \n     \n    \n      Forgot Password
URL:https://onexleague.com/experience/sign-up-list-oxl-dubai-abu-dhabi-trip/
LOCATION:Dubai + Abu Dhabi
ATTACH;FMTTYPE=image/jpeg:https://onexleague.com/wp-content/uploads/2023/07/Fairmont-LB-2.jpeg
END:VEVENT
END:VCALENDAR